Workbook

Sheet Info_Summary
A1: RecycleSmart Software RFP Proposal Form
A3: INSTRUCTIONS: Please enter your company information in the boxes below:
A4: Company Name:
A5: Company Address:
A6: Company Website:
A7: Company Contact Person:
A8: Contact Phone:
A9: Contact Email:
A11: Costs Proposal Summary (auto populates from other tabs)
A12: 1 year Contract
A13: The table below is a summary of the Proposed Costs for 1 year service contract:
B14: ='Cost Proposal (one year)'!B5 -> 0 | C14: Annual Recurring Cost Total
B15: ='Cost Proposal (one year)'!B8 -> 0 | C15: Start-up/ One-Time/ Onboarding Cost Total
B16: 0 | C16: Custom Costs: see tab
B17: ='Cost Proposal (one year)'!B17 -> 0 | C17: Supplemental Cost Total
B19: =SUM(B14:B17) -> 0 | C19: Total 1-Year Contract
A21: Multi-Year Contract
A22: The table below is a summary of the Proposed Costs for multi-year service contract:
B23: ='Cost Proposal (multiple years)'!B5 -> 0 | C23: Annual Recurring Cost Total
B24: ='Cost Proposal (multiple years)'!B8 -> 0 | C24: Start-up/ One-Time/ Onboarding Cost Total
B25: 0 | C25: Custom Costs: see tab
B26: ='Cost Proposal (multiple years)'!B17 -> 0 | C26: Supplemental Cost Total
B28: =SUM(B23:B26) -> 0 | C28: Total Multi-Year Contract

Sheet Cost Proposal (one year)
A1: RecycleSmart Software RFP Proposal Form
A2: Company Name: | B2: =Info_Summary!C4 -> 0
A3: INSTRUCTIONS: Provide a formal quote for the cost of the software subscription for a 1-year contract and options for renewal. If there are one-time start-up costs associated with setting up the software, recurring costs associated with data uploads, or other supplementary services such as any add-on features, support features, customizations or consulting services; please provide these costs as separate line items. Any hourly rates must be accompanied by an estimate of hours.
A5: Annual Recurring Cost:
A6: Please provide all services included in the annual recurring costs:
A8: Start-Up/ One-Time/ Onboarding Costs:
A9: Please provide all services included in the start-up/ one-time/ onboarding costs:
A11: One-Time Add-On/ Custom Costs: | B11: 0
A12: Please provide all services included in the one-time add-on/ custom costs:
A14: Recurring Add-On/ Custom Costs: | B14: 0
A15: Please provide all services included in the recurring add-on/ custom costs:
A17: Other Supplemental Costs:
A18: Please provide all services included in the other supplemental costs:
A20: Optional Hourly Rate Cost Summary
A21: Optional: Please fill out the table below for any hourly costs for customization work, consulting work, etc. Any hourly rates must be accompanied by an estimate of hours.
A22: Title/Position | C22: Description of Tasks | F22: Hourly Rate | G22: Estimated Hours | H22: Estimated Total
F23: 0 | H23: =F23*G23 -> 0
F24: 0 | H24: =F24*G24 -> 0
F25: 0 | H25: =F25*G25 -> 0
F26: 0 | H26: =F26*G26 -> 0
F27: 0 | H27: =F27*G27 -> 0
F28: 0 | H28: =F28*G28 -> 0
F29: 0 | H29: =F29*G29 -> 0
F30: 0 | H30: =F30*G30 -> 0
F32: Subtotal | G32: =SUM(G23:G30) -> 0 | H32: =SUM(H23:H30) -> 0
A34: Renewal Options:

Sheet Cost Proposal (multiple years)
A1: RecycleSmart Software RFP Proposal Form
A2: Company Name: | B2: =Info_Summary!C4 -> 0
A3: INSTRUCTIONS: Provide a formal quote for the cost of the software subscription for multi-year contracts and options for renewal. Describe any discount terms or benefits associated with multi-year contract terms, if applicable. If there are one-time start-up costs associated with setting up the software, recurring costs associated with data uploads, or other supplementary services such as any add-on features, support features, customizations or consulting services; please provide these costs as separate line items. Any hourly rates must be accompanied by an estimate of hours.
A5: Annual Recurring Cost:
A6: Please provide all services included in the annual recurring costs:
A8: Start-Up/ One-Time/ Onboarding Costs:
A9: Please provide all services included in the start-up/ one-time/ onboarding costs:
A11: One-Time Add-On/ Custom Costs: | B11: 0
A12: Please provide all services included in the one-time add-on/ custom costs:
A14: Recurring Add-On/ Custom Costs: | B14: 0
A15: Please provide all services included in the recurring add-on/ custom costs:
A17: Other Supplemental Costs:
A18: Please provide all services included in the other supplemental costs:
A20: Optional Hourly Rate Cost Summary
A21: Optional: Please fill out the table below for any hourly costs for customization work, consulting work, etc. Any hourly rates must be accompanied by an estimate of hours.
A22: Title/Position | C22: Description of Tasks | F22: Hourly Rate | G22: Estimated Hours | H22: Estimated Total
F23: 0 | H23: =F23*G23 -> 0
F24: 0 | H24: =F24*G24 -> 0
F25: 0 | H25: =F25*G25 -> 0
F26: 0 | H26: =F26*G26 -> 0
F27: 0 | H27: =F27*G27 -> 0
F28: 0 | H28: =F28*G28 -> 0
F29: 0 | H29: =F29*G29 -> 0
F30: 0 | H30: =F30*G30 -> 0
F32: Subtotal | G32: =SUM(G23:G30) -> 0 | H32: =SUM(H23:H30) -> 0
A34: Renewal Options & Discounts:
